Package: alabaster.base Version: 1.10.0 Command: rm -rf alabaster.base.buildbin-libdir && mkdir alabaster.base.buildbin-libdir && /Users/biocbuild/BBS/utils/build-universal.sh alabaster.base_1.10.0.tar.gz /Library/Frameworks/R.framework/Resources/bin/R alabaster.base.buildbin-libdir StartedAt: 2025-11-10 23:10:44 -0500 (Mon, 10 Nov 2025) EndedAt: 2025-11-10 23:11:10 -0500 (Mon, 10 Nov 2025) EllapsedTime: 26.5 seconds RetCode: 0 Status: OK PackageFile: alabaster.base_1.10.0.tgz PackageFileSize: 2.117 MiB