Package: aggregateBioVar Version: 1.19.1 Command: /home/biocbuild/bbs-3.22-bioc/R/bin/R CMD INSTALL aggregateBioVar StartedAt: 2025-10-24 15:29:57 -0400 (Fri, 24 Oct 2025) EndedAt: 2025-10-24 15:30:18 -0400 (Fri, 24 Oct 2025) EllapsedTime: 20.8 seconds RetCode: 0 Status: OK