Package: aggregateBioVar Version: 1.19.1 Command: /Library/Frameworks/R.framework/Resources/bin/R CMD INSTALL aggregateBioVar StartedAt: 2025-10-26 15:10:23 -0400 (Sun, 26 Oct 2025) EndedAt: 2025-10-26 15:10:32 -0400 (Sun, 26 Oct 2025) EllapsedTime: 8.6 seconds RetCode: 0 Status: OK