Package: affylmGUI Version: 1.84.0 Command: /home/biocbuild/bbs-3.22-bioc/R/bin/R CMD INSTALL affylmGUI StartedAt: 2025-11-06 15:26:02 -0500 (Thu, 06 Nov 2025) EndedAt: 2025-11-06 15:26:23 -0500 (Thu, 06 Nov 2025) EllapsedTime: 21.1 seconds RetCode: 0 Status: OK