Package: affylmGUI Version: 1.84.0 Command: /home/biocbuild/bbs-3.22-bioc/R/bin/R CMD build --keep-empty-dirs --no-resave-data --md5 affylmGUI StartedAt: 2025-11-06 16:10:23 -0500 (Thu, 06 Nov 2025) EndedAt: 2025-11-06 16:10:48 -0500 (Thu, 06 Nov 2025) EllapsedTime: 25.0 seconds RetCode: 0 Status: OK PackageFile: affylmGUI_1.84.0.tar.gz PackageFileSize: 1.763 MiB