Package: affyPLM Version: 1.86.0 Command: /home/biocbuild/bbs-3.22-bioc/R/bin/R CMD INSTALL affyPLM StartedAt: 2025-11-20 16:07:01 -0500 (Thu, 20 Nov 2025) EndedAt: 2025-11-20 16:07:20 -0500 (Thu, 20 Nov 2025) EllapsedTime: 19.6 seconds RetCode: 0 Status: OK