Package: affyPLM Version: 1.86.0 Command: /home/biocbuild/bbs-3.22-bioc/R/bin/R CMD build --keep-empty-dirs --no-resave-data --md5 affyPLM StartedAt: 2025-11-20 17:01:43 -0500 (Thu, 20 Nov 2025) EndedAt: 2025-11-20 17:03:24 -0500 (Thu, 20 Nov 2025) EllapsedTime: 101.1 seconds RetCode: 0 Status: OK PackageFile: affyPLM_1.86.0.tar.gz PackageFileSize: 7.159 MiB