Package: adverSCarial Version: 1.8.0 Command: /home/biocbuild/bbs-3.22-bioc/R/bin/R CMD INSTALL adverSCarial StartedAt: 2025-11-06 15:15:26 -0500 (Thu, 06 Nov 2025) EndedAt: 2025-11-06 15:15:30 -0500 (Thu, 06 Nov 2025) EllapsedTime: 4.3 seconds RetCode: 0 Status: OK