Package: adverSCarial Version: 1.8.0 Command: /home/biocbuild/bbs-3.22-bioc/R/bin/R CMD build --keep-empty-dirs --no-resave-data --md5 adverSCarial StartedAt: 2025-11-06 16:09:52 -0500 (Thu, 06 Nov 2025) EndedAt: 2025-11-06 16:10:15 -0500 (Thu, 06 Nov 2025) EllapsedTime: 23.0 seconds RetCode: 0 Status: OK PackageFile: adverSCarial_1.8.0.tar.gz PackageFileSize: 169.8 KiB