Package: adductomicsR Version: 1.26.0 Command: /home/biocbuild/bbs-3.22-bioc/R/bin/R CMD INSTALL adductomicsR StartedAt: 2025-11-20 16:23:50 -0500 (Thu, 20 Nov 2025) EndedAt: 2025-11-20 16:24:13 -0500 (Thu, 20 Nov 2025) EllapsedTime: 23.6 seconds RetCode: 0 Status: OK