Package: adSplit Version: 1.79.0 Command: /home/biocbuild/bbs-3.22-bioc/R/bin/R CMD INSTALL adSplit StartedAt: 2025-10-27 15:40:48 -0400 (Mon, 27 Oct 2025) EndedAt: 2025-10-27 15:41:04 -0400 (Mon, 27 Oct 2025) EllapsedTime: 16.3 seconds RetCode: 0 Status: OK