Package: abseqR Version: 1.27.0 Command: /home/biocbuild/bbs-3.22-bioc/R/bin/R CMD INSTALL abseqR StartedAt: 2025-10-24 15:21:37 -0400 (Fri, 24 Oct 2025) EndedAt: 2025-10-24 15:21:48 -0400 (Fri, 24 Oct 2025) EllapsedTime: 11.8 seconds RetCode: 0 Status: OK