Package: aCGH Version: 1.88.0 Command: /home/biocbuild/bbs-3.22-bioc/R/bin/R CMD INSTALL aCGH StartedAt: 2025-11-06 15:11:51 -0500 (Thu, 06 Nov 2025) EndedAt: 2025-11-06 15:12:03 -0500 (Thu, 06 Nov 2025) EllapsedTime: 11.7 seconds RetCode: 0 Status: OK