Package: aCGH Version: 1.88.0 Command: /home/biocbuild/bbs-3.22-bioc/R/bin/R CMD build --keep-empty-dirs --no-resave-data --md5 aCGH StartedAt: 2025-11-06 16:09:38 -0500 (Thu, 06 Nov 2025) EndedAt: 2025-11-06 16:10:06 -0500 (Thu, 06 Nov 2025) EllapsedTime: 28.0 seconds RetCode: 0 Status: OK PackageFile: aCGH_1.88.0.tar.gz PackageFileSize: 2.22 MiB