Package: a4Reporting Version: 1.58.0 Command: /home/biocbuild/bbs-3.22-bioc/R/bin/R CMD INSTALL a4Reporting StartedAt: 2025-11-14 15:03:41 -0500 (Fri, 14 Nov 2025) EndedAt: 2025-11-14 15:03:44 -0500 (Fri, 14 Nov 2025) EllapsedTime: 3.8 seconds RetCode: 0 Status: OK