Package: a4Preproc Version: 1.57.0 Command: /home/biocbuild/bbs-3.22-bioc/R/bin/R CMD INSTALL a4Preproc StartedAt: 2025-10-24 15:22:38 -0400 (Fri, 24 Oct 2025) EndedAt: 2025-10-24 15:22:40 -0400 (Fri, 24 Oct 2025) EllapsedTime: 2.2 seconds RetCode: 0 Status: OK