Package: a4Classif Version: 1.57.0 Command: /home/biocbuild/bbs-3.22-bioc/R/bin/R CMD build --keep-empty-dirs --no-resave-data --md5 a4Classif StartedAt: 2025-10-24 16:18:33 -0400 (Fri, 24 Oct 2025) EndedAt: 2025-10-24 16:19:01 -0400 (Fri, 24 Oct 2025) EllapsedTime: 28.0 seconds RetCode: 0 Status: OK PackageFile: a4Classif_1.57.0.tar.gz PackageFileSize: 606.9 KiB