Package: a4Classif Version: 1.58.0 Command: /Library/Frameworks/R.framework/Resources/bin/R CMD INSTALL a4Classif StartedAt: 2025-11-10 15:07:15 -0500 (Mon, 10 Nov 2025) EndedAt: 2025-11-10 15:07:18 -0500 (Mon, 10 Nov 2025) EllapsedTime: 3.3 seconds RetCode: 0 Status: OK