Package: a4Classif Version: 1.58.0 Command: /Library/Frameworks/R.framework/Resources/bin/R CMD build --keep-empty-dirs --no-resave-data a4Classif StartedAt: 2025-11-10 15:35:30 -0500 (Mon, 10 Nov 2025) EndedAt: 2025-11-10 15:35:42 -0500 (Mon, 10 Nov 2025) EllapsedTime: 12.2 seconds RetCode: 0 Status: OK PackageFile: a4Classif_1.58.0.tar.gz PackageFileSize: 629.1 KiB