Package: a4Classif Version: 1.58.0 Command: rm -rf a4Classif.buildbin-libdir && mkdir a4Classif.buildbin-libdir && /Users/biocbuild/BBS/utils/build-universal.sh a4Classif_1.58.0.tar.gz /Library/Frameworks/R.framework/Resources/bin/R a4Classif.buildbin-libdir StartedAt: 2025-11-10 23:10:30 -0500 (Mon, 10 Nov 2025) EndedAt: 2025-11-10 23:10:33 -0500 (Mon, 10 Nov 2025) EllapsedTime: 3.1 seconds RetCode: 0 Status: OK PackageFile: a4Classif_1.58.0.tgz PackageFileSize: 661.6 KiB