Package: a4Base Version: 1.57.0 Command: /home/biocbuild/bbs-3.22-bioc/R/bin/R CMD INSTALL a4Base StartedAt: 2025-10-27 15:51:08 -0400 (Mon, 27 Oct 2025) EndedAt: 2025-10-27 15:51:28 -0400 (Mon, 27 Oct 2025) EllapsedTime: 20.1 seconds RetCode: 0 Status: OK