Package: a4Base Version: 1.58.0 Command: /Library/Frameworks/R.framework/Resources/bin/R CMD INSTALL a4Base StartedAt: 2025-11-03 15:45:10 -0500 (Mon, 03 Nov 2025) EndedAt: 2025-11-03 15:45:38 -0500 (Mon, 03 Nov 2025) EllapsedTime: 28.4 seconds RetCode: 0 Status: OK