Package: a4Base Version: 1.58.0 Command: /Library/Frameworks/R.framework/Resources/bin/R CMD INSTALL a4Base StartedAt: 2025-11-03 15:25:08 -0500 (Mon, 03 Nov 2025) EndedAt: 2025-11-03 15:25:17 -0500 (Mon, 03 Nov 2025) EllapsedTime: 8.8 seconds RetCode: 0 Status: OK