Package: a4Base Version: 1.58.0 Command: /Library/Frameworks/R.framework/Resources/bin/R CMD INSTALL a4Base StartedAt: 2025-11-17 18:20:40 -0500 (Mon, 17 Nov 2025) EndedAt: 2025-11-17 18:20:48 -0500 (Mon, 17 Nov 2025) EllapsedTime: 8.2 seconds RetCode: 0 Status: OK