Package: a4 Version: 1.58.0 Command: /home/biocbuild/bbs-3.22-bioc/R/bin/R CMD INSTALL a4 StartedAt: 2025-11-14 15:49:49 -0500 (Fri, 14 Nov 2025) EndedAt: 2025-11-14 15:50:08 -0500 (Fri, 14 Nov 2025) EllapsedTime: 19.2 seconds RetCode: 0 Status: OK