Package: a4 Version: 1.58.0 Command: /home/biocbuild/bbs-3.22-bioc/R/bin/R CMD build --keep-empty-dirs --no-resave-data --md5 a4 StartedAt: 2025-11-14 16:11:08 -0500 (Fri, 14 Nov 2025) EndedAt: 2025-11-14 16:13:35 -0500 (Fri, 14 Nov 2025) EllapsedTime: 147.2 seconds RetCode: 0 Status: OK PackageFile: a4_1.58.0.tar.gz PackageFileSize: 1.206 MiB