Package: ZygosityPredictor Version: 1.10.0 Command: /home/biocbuild/bbs-3.22-bioc/R/bin/R CMD INSTALL ZygosityPredictor StartedAt: 2025-11-02 15:53:54 -0500 (Sun, 02 Nov 2025) EndedAt: 2025-11-02 15:54:41 -0500 (Sun, 02 Nov 2025) EllapsedTime: 46.7 seconds RetCode: 0 Status: OK