Package: ZygosityPredictor Version: 1.10.0 Command: /home/biocbuild/bbs-3.22-bioc/R/bin/R CMD build --keep-empty-dirs --no-resave-data --md5 ZygosityPredictor StartedAt: 2025-11-03 20:52:21 -0500 (Mon, 03 Nov 2025) EndedAt: 2025-11-03 20:53:22 -0500 (Mon, 03 Nov 2025) EllapsedTime: 62.0 seconds RetCode: 0 Status: OK PackageFile: ZygosityPredictor_1.10.0.tar.gz PackageFileSize: 827.4 KiB