Package: YAPSA Version: 1.36.0 Command: /home/biocbuild/bbs-3.22-bioc/R/bin/R CMD INSTALL YAPSA StartedAt: 2025-10-29 22:07:16 -0400 (Wed, 29 Oct 2025) EndedAt: 2025-10-29 22:08:20 -0400 (Wed, 29 Oct 2025) EllapsedTime: 64.9 seconds RetCode: 0 Status: OK