Package: YAPSA Version: 1.36.0 Command: /home/biocbuild/bbs-3.22-bioc/R/bin/R CMD build --keep-empty-dirs --no-resave-data --md5 YAPSA StartedAt: 2025-10-30 03:13:06 -0400 (Thu, 30 Oct 2025) EndedAt: 2025-10-30 03:16:34 -0400 (Thu, 30 Oct 2025) EllapsedTime: 207.8 seconds RetCode: 0 Status: OK PackageFile: YAPSA_1.36.0.tar.gz PackageFileSize: 4.181 MiB