Package: XeniumIO Version: 1.2.0 Command: /home/biocbuild/R/R/bin/R CMD INSTALL XeniumIO StartedAt: 2025-11-20 22:14:49 -0000 (Thu, 20 Nov 2025) EndedAt: 2025-11-20 22:15:23 -0000 (Thu, 20 Nov 2025) EllapsedTime: 33.6 seconds RetCode: 0 Status: OK