Package: XeniumIO Version: 1.2.0 Command: /home/biocbuild/R/R/bin/R CMD build --keep-empty-dirs --no-resave-data XeniumIO StartedAt: 2025-11-21 06:55:05 -0000 (Fri, 21 Nov 2025) EndedAt: 2025-11-21 06:55:51 -0000 (Fri, 21 Nov 2025) EllapsedTime: 46.0 seconds RetCode: 1 Status: ERROR PackageFile: None PackageFileSize: NA