Package: XeniumIO Version: 1.1.3 Command: /home/biocbuild/bbs-3.22-bioc/R/bin/R CMD build --keep-empty-dirs --no-resave-data --md5 XeniumIO StartedAt: 2025-10-24 20:55:08 -0400 (Fri, 24 Oct 2025) EndedAt: 2025-10-24 20:55:47 -0400 (Fri, 24 Oct 2025) EllapsedTime: 39.0 seconds RetCode: 0 Status: OK PackageFile: XeniumIO_1.1.3.tar.gz PackageFileSize: 230 KiB