Package: XeniumIO Version: 1.2.0 Command: rm -rf XeniumIO.buildbin-libdir && mkdir XeniumIO.buildbin-libdir && /Users/biocbuild/BBS/utils/build-universal.sh XeniumIO_1.2.0.tar.gz /Library/Frameworks/R.framework/Resources/bin/R XeniumIO.buildbin-libdir StartedAt: 2025-11-01 02:04:35 -0400 (Sat, 01 Nov 2025) EndedAt: 2025-11-01 02:05:11 -0400 (Sat, 01 Nov 2025) EllapsedTime: 35.9 seconds RetCode: 0 Status: OK PackageFile: XeniumIO_1.2.0.tgz PackageFileSize: 276.6 KiB