Package: XNAString Version: 1.17.1 Command: /home/biocbuild/bbs-3.22-bioc/R/bin/R CMD INSTALL XNAString StartedAt: 2025-10-24 16:01:38 -0400 (Fri, 24 Oct 2025) EndedAt: 2025-10-24 16:01:43 -0400 (Fri, 24 Oct 2025) EllapsedTime: 5.3 seconds RetCode: 1 Status: ERROR