Package: XNAString Version: 1.18.0 Command: /Library/Frameworks/R.framework/Resources/bin/R CMD INSTALL XNAString StartedAt: 2025-11-10 15:26:53 -0500 (Mon, 10 Nov 2025) EndedAt: 2025-11-10 15:26:55 -0500 (Mon, 10 Nov 2025) EllapsedTime: 2.0 seconds RetCode: 1 Status: ERROR