Package: XNAString Version: 1.18.0 Command: /Library/Frameworks/R.framework/Resources/bin/R CMD build --keep-empty-dirs --no-resave-data XNAString StartedAt: 2025-11-10 18:10:35 -0500 (Mon, 10 Nov 2025) EndedAt: 2025-11-10 18:10:37 -0500 (Mon, 10 Nov 2025) EllapsedTime: 2.0 seconds RetCode: 1 Status: ERROR PackageFile: None PackageFileSize: NA