Package: XINA Version: 1.28.0 Command: /home/biocbuild/bbs-3.22-bioc/R/bin/R CMD build --keep-empty-dirs --no-resave-data --md5 XINA StartedAt: 2025-11-16 20:57:46 -0500 (Sun, 16 Nov 2025) EndedAt: 2025-11-16 20:58:19 -0500 (Sun, 16 Nov 2025) EllapsedTime: 33.0 seconds RetCode: 0 Status: OK PackageFile: XINA_1.28.0.tar.gz PackageFileSize: 2.745 MiB