Package: XAItest Version: 1.2.0 Command: /home/biocbuild/bbs-3.22-bioc/R/bin/R CMD INSTALL XAItest StartedAt: 2025-11-02 15:31:36 -0500 (Sun, 02 Nov 2025) EndedAt: 2025-11-02 15:31:41 -0500 (Sun, 02 Nov 2025) EllapsedTime: 4.3 seconds RetCode: 0 Status: OK