Package: XAItest Version: 1.2.0 Command: /home/biocbuild/bbs-3.22-bioc/R/bin/R CMD build --keep-empty-dirs --no-resave-data --md5 XAItest StartedAt: 2025-11-04 20:49:39 -0500 (Tue, 04 Nov 2025) EndedAt: 2025-11-04 20:51:32 -0500 (Tue, 04 Nov 2025) EllapsedTime: 112.1 seconds RetCode: 0 Status: OK PackageFile: XAItest_1.2.0.tar.gz PackageFileSize: 1.324 MiB