Package: VplotR Version: 1.19.1 Command: /home/biocbuild/R/R/bin/R CMD build --keep-empty-dirs --no-resave-data VplotR StartedAt: 2025-10-21 04:02:20 -0000 (Tue, 21 Oct 2025) EndedAt: 2025-10-21 04:03:49 -0000 (Tue, 21 Oct 2025) EllapsedTime: 89.0 seconds RetCode: 1 Status: ERROR PackageFile: None PackageFileSize: NA