Package: VplotR Version: 1.20.0 Command: /home/biocbuild/bbs-3.22-bioc/R/bin/R CMD check --install=check:VplotR.install-out.txt --library=/home/biocbuild/bbs-3.22-bioc/R/site-library --timings VplotR_1.20.0.tar.gz StartedAt: 2025-11-17 05:25:37 -0500 (Mon, 17 Nov 2025) EndedAt: 2025-11-17 05:31:39 -0500 (Mon, 17 Nov 2025) EllapsedTime: 362.3 seconds RetCode: 1 Status: ERROR CheckDir: VplotR.Rcheck Warnings: NA