Package: VariantTools Version: 1.52.0 Command: /Library/Frameworks/R.framework/Resources/bin/R CMD INSTALL VariantTools StartedAt: 2025-10-31 15:45:55 -0400 (Fri, 31 Oct 2025) EndedAt: 2025-10-31 15:46:50 -0400 (Fri, 31 Oct 2025) EllapsedTime: 55.6 seconds RetCode: 0 Status: OK