Package: VariantTools Version: 1.52.0 Command: /Library/Frameworks/R.framework/Resources/bin/R CMD build --keep-empty-dirs --no-resave-data VariantTools StartedAt: 2025-11-03 19:11:58 -0500 (Mon, 03 Nov 2025) EndedAt: 2025-11-03 19:13:08 -0500 (Mon, 03 Nov 2025) EllapsedTime: 69.8 seconds RetCode: 1 Status: ERROR PackageFile: None PackageFileSize: NA