Package: VariantFiltering Version: 1.45.3 Maintainer: Robert Castelo MaintainerEmail: robert.castelo at upf.edu git_url: https://git.bioconductor.org/packages/VariantFiltering git_branch: devel git_last_commit: cafa29d git_last_commit_date: 2025-10-21 01:31:25 -0400 (Tue, 21 Oct 2025)