Package: VariantAnnotation Version: 1.56.0 Command: /home/biocbuild/R/R/bin/R CMD INSTALL VariantAnnotation StartedAt: 2025-11-13 21:47:10 -0000 (Thu, 13 Nov 2025) EndedAt: 2025-11-13 21:48:43 -0000 (Thu, 13 Nov 2025) EllapsedTime: 93.1 seconds RetCode: 0 Status: OK