Package: VariantAnnotation Version: 1.56.0 Command: /home/biocbuild/R/R/bin/R CMD build --keep-empty-dirs --no-resave-data VariantAnnotation StartedAt: 2025-11-14 06:13:15 -0000 (Fri, 14 Nov 2025) EndedAt: 2025-11-14 06:17:24 -0000 (Fri, 14 Nov 2025) EllapsedTime: 249.2 seconds RetCode: 0 Status: OK PackageFile: VariantAnnotation_1.56.0.tar.gz PackageFileSize: 2.056 MiB