Package: VariantAnnotation Version: 1.55.2 Command: /home/biocbuild/bbs-3.22-bioc/R/bin/R CMD INSTALL VariantAnnotation StartedAt: 2025-10-24 15:49:50 -0400 (Fri, 24 Oct 2025) EndedAt: 2025-10-24 15:50:59 -0400 (Fri, 24 Oct 2025) EllapsedTime: 69.4 seconds RetCode: 0 Status: OK