Package: VariantAnnotation Version: 1.56.0 Command: /home/biocbuild/bbs-3.22-bioc/R/bin/R CMD check --install=check:VariantAnnotation.install-out.txt --library=/home/biocbuild/bbs-3.22-bioc/R/site-library --timings VariantAnnotation_1.56.0.tar.gz StartedAt: 2025-11-14 05:18:42 -0500 (Fri, 14 Nov 2025) EndedAt: 2025-11-14 05:29:46 -0500 (Fri, 14 Nov 2025) EllapsedTime: 664.6 seconds RetCode: 0 Status: WARNINGS CheckDir: VariantAnnotation.Rcheck Warnings: 1