Package: VariantAnnotation Version: 1.55.2 Command: /Library/Frameworks/R.framework/Resources/bin/R CMD INSTALL VariantAnnotation StartedAt: 2025-10-24 15:43:04 -0400 (Fri, 24 Oct 2025) EndedAt: 2025-10-24 15:44:41 -0400 (Fri, 24 Oct 2025) EllapsedTime: 97.4 seconds RetCode: 0 Status: OK